BEGIN:VCALENDAR
VERSION:2.0
PRODID:-//Le Central 425 - ECPv6.15.14//NONSGML v1.0//EN
CALSCALE:GREGORIAN
METHOD:PUBLISH
X-WR-CALNAME:Le Central 425
X-ORIGINAL-URL:https://lecentral425.com
X-WR-CALDESC:Événements pour Le Central 425
REFRESH-INTERVAL;VALUE=DURATION:PT1H
X-Robots-Tag:noindex
X-PUBLISHED-TTL:PT1H
BEGIN:VTIMEZONE
TZID:UTC
BEGIN:STANDARD
TZOFFSETFROM:+0000
TZOFFSETTO:+0000
TZNAME:UTC
DTSTART:20240101T000000
END:STANDARD
END:VTIMEZONE
BEGIN:VTIMEZONE
TZID:America/Toronto
BEGIN:DAYLIGHT
TZOFFSETFROM:-0500
TZOFFSETTO:-0400
TZNAME:EDT
DTSTART:20230312T070000
END:DAYLIGHT
BEGIN:STANDARD
TZOFFSETFROM:-0400
TZOFFSETTO:-0500
TZNAME:EST
DTSTART:20231105T060000
END:STANDARD
BEGIN:DAYLIGHT
TZOFFSETFROM:-0500
TZOFFSETTO:-0400
TZNAME:EDT
DTSTART:20240310T070000
END:DAYLIGHT
BEGIN:STANDARD
TZOFFSETFROM:-0400
TZOFFSETTO:-0500
TZNAME:EST
DTSTART:20241103T060000
END:STANDARD
BEGIN:DAYLIGHT
TZOFFSETFROM:-0500
TZOFFSETTO:-0400
TZNAME:EDT
DTSTART:20250309T070000
END:DAYLIGHT
BEGIN:STANDARD
TZOFFSETFROM:-0400
TZOFFSETTO:-0500
TZNAME:EST
DTSTART:20251102T060000
END:STANDARD
END:VTIMEZONE
BEGIN:VEVENT
DTSTART;TZID=UTC:20250122T180000
DTEND;TZID=UTC:20250122T193000
DTSTAMP:20260422T231053
CREATED:20250102T173802Z
LAST-MODIFIED:20250114T142651Z
UID:1034-1737568800-1737574200@lecentral425.com
SUMMARY:Assemblée générale annuelle - Quatuor
DESCRIPTION:SYNDICAT DE COPROPRIÉTÉ LE QUATUOR GROUPE A\nASSEMBLÉE GÉNÉRALE ANNUELLE\nLe 22 janvier 2025 à 18h – Par vidéoconférence Webex
URL:https://lecentral425.com/event/1034/
END:VEVENT
BEGIN:VEVENT
DTSTART;TZID=America/Toronto:20241203T183000
DTEND;TZID=America/Toronto:20241203T193000
DTSTAMP:20260422T231053
CREATED:20241127T161826Z
LAST-MODIFIED:20241127T203046Z
UID:724-1733250600-1733254200@lecentral425.com
SUMMARY:Assemblée générale annuelle
DESCRIPTION:ORDRE DU JOUR\nSYNDICAT DE COPROPRIÉTÉ LE CENTRAL GROUPE A4\nASSEMBLÉE GÉNÉRALE ANNUELLE\nLe 3 décembre 2024 à 18h30 – Tenue par l’outil électronique Zoom \n1. Mot de bienvenue du président et vérification du quorum\n2. Désignation d’un président et secrétaire d’assemblée\n3. Adoption de l’ordre du jour\n4. Adoption du procès-verbal de l’assemblée générale annuelle daté du 14 décembre 2023\n5. Présentation des états financiers se terminant le 30 septembre 2024\n6. Présentation du budget 2024-2025\n7. Rapport des administrateurs\n8. Mise à jour sur le fonctionnement de la copropriété\n9. Varia\n9.1. Calfeutrage\n9.2. Règlement du bâtiment (bornes de recharge pour véhicule électrique)\n9.3. Communications\n9.4. Finance (investissement du fonds de prévoyance)\n10. Élection du Conseil d’administration 2024 – 2025\n11. Clôture de l’assemblée
URL:https://lecentral425.com/event/assemblee-generale-annuelle/
END:VEVENT
END:VCALENDAR